BEGIN:VCALENDAR
VERSION:2.0
PRODID:EVENTFROG//EVENT//ICAL
BEGIN:VEVENT
UID:20260424T142751Z-7452943647346034721@eventfrog.at
DTSTAMP:20260424T142751Z
DTSTART:20260513T180000Z
DTEND:20260513T200000Z
SUMMARY:Language Exchange Zurich
DESCRIPTION:Join the language exchange and meet new people, discover other cultures and practice foreign language skills with fellow participants! \n\nhttps://eventfrog.at/en/p/eating-drinking/language-exchange-zurich-7452943647346034721.html
LOCATION:2. Akt Bar, 8001 Zürich
GEO:47.369865;8.533612
URL:https://eventfrog.at/en/p/eating-drinking/language-exchange-zurich-7452943647346034721.html
END:VEVENT
END:VCALENDAR