BEGIN:VCALENDAR
VERSION:2.0
PRODID:EVENTFROG//EVENT//ICAL
BEGIN:VEVENT
UID:20260424T072711Z-7452943284089943435@eventfrog.at
DTSTAMP:20260424T072711Z
DTSTART:20260513T190000Z
SUMMARY:Pub Crawl Zurich
DESCRIPTION:Join the original Pub Crawl and experience Zurich’s trendiest bars and clubs guided by the red hosts\nEine unvergessliche Party-Tour durch Zürichs beste Bars mit internationaler Gruppe by the red hosts\n\nhttps://eventfrog.at/en/p/parties/charts-open-format/pub-crawl-zurich-7452943284089943435.html
LOCATION:2. Akt Restaurant & Sports Bar
GEO:47.369865;8.533612
URL:https://eventfrog.at/en/p/parties/charts-open-format/pub-crawl-zurich-7452943284089943435.html
END:VEVENT
END:VCALENDAR