BEGIN:VCALENDAR
VERSION:2.0
PRODID:EVENTFROG//EVENT//ICAL
BEGIN:VEVENT
UID:20260424T072703Z-7452904233400018734@eventfrog.at
DTSTAMP:20260424T072703Z
DTSTART:20260521T180000Z
DTEND:20260521T200000Z
SUMMARY:Symphonic Alternative Rock – United Soloists Orchestra
DESCRIPTION:Starlight - Muse Yellow - Coldplay No Surprises - Radiohead Feel Good Inc. - Gorillaz Wake Me Up When September Ends - Green...\n\nhttps://eventfrog.at/de/p/klassik-opern/klassik/symphonic-alternative-rock-united-soloists-orchestra-7452904233400018734.html
LOCATION:Französische Kirche Bern
GEO:46.948989;7.446510
URL:https://eventfrog.at/de/p/klassik-opern/klassik/symphonic-alternative-rock-united-soloists-orchestra-7452904233400018734.html
END:VEVENT
END:VCALENDAR