BEGIN:VCALENDAR
VERSION:2.0
PRODID:EVENTFROG//EVENT//ICAL
BEGIN:VEVENT
UID:20260424T072655Z-7452865173054824631@eventfrog.at
DTSTAMP:20260424T072655Z
DTSTART:20260509T173000Z
DTEND:20260509T183000Z
SUMMARY:REINCARNATIONS Chorkonzert
DESCRIPTION:Das Konzert «Reincarnations» verbindet gälische Mythen mit Werken von Clara Schumann und anderen, begleitet am Klavier von Marc Hunziker.\n\nhttps://eventfrog.at/de/p/konzerte/a-cappella-vocal/reincarnations-chorkonzert-7452865173054824631.html
LOCATION:Reformierte Kirche Sursee
GEO:47.170611;8.107316
URL:https://eventfrog.at/de/p/konzerte/a-cappella-vocal/reincarnations-chorkonzert-7452865173054824631.html
END:VEVENT
END:VCALENDAR