BEGIN:VCALENDAR
VERSION:2.0
PRODID:EVENTFROG//EVENT//ICAL
BEGIN:VEVENT
UID:20260424T072641Z-7452844236997679931@eventfrog.at
DTSTAMP:20260424T072641Z
DTSTART:20260509T140000Z
DTEND:20260509T170000Z
SUMMARY:Bachata DanceFit and INSIDEMOVE ®
DESCRIPTION:Three-hour dance masterclass for open level with Bachata  DanceFit and INSIDEMOVE®, led by Irina Schweizer and Maria Erokhina.\n\nhttps://eventfrog.at/de/p/sport-fitness/tanzsport/bachata-dancefit-and-insidemove-7452844236997679931.html
LOCATION:Tanzwerk 101
GEO:47.390273;8.507417
URL:https://eventfrog.at/de/p/sport-fitness/tanzsport/bachata-dancefit-and-insidemove-7452844236997679931.html
END:VEVENT
END:VCALENDAR