BEGIN:VCALENDAR
VERSION:2.0
PRODID:EVENTFROG//EVENT//ICAL
BEGIN:VEVENT
UID:20260424T090300Z-7452838924857155996@eventfrog.at
DTSTAMP:20260424T090300Z
DTSTART:20260430T170000Z
DTEND:20260430T183000Z
SUMMARY:Theaterensemble der Kantonsschule Trogen - Jugend ohne Gott
DESCRIPTION:Jugend ohne Gott (Ödön von Horváth)\n\nhttps://eventfrog.at/de/p/theater-buehne/theaterensemble-der-kantonsschule-trogen-jugend-ohne-gott-7452838924857155996.html
LOCATION:Aula der Kantonsschule Trogen
GEO:47.408531;9.460668
URL:https://eventfrog.at/de/p/theater-buehne/theaterensemble-der-kantonsschule-trogen-jugend-ohne-gott-7452838924857155996.html
END:VEVENT
END:VCALENDAR