BEGIN:VCALENDAR
VERSION:2.0
PRODID:EVENTFROG//EVENT//ICAL
BEGIN:VEVENT
UID:20260424T062242Z-7452838884201765809@eventfrog.at
DTSTAMP:20260424T062242Z
DTSTART:20260509T110000Z
SUMMARY:Summer Opening Party
DESCRIPTION:Das Summer Opening im Bredella Village steht an.\n\nhttps://eventfrog.at/de/p/partys/electro/summer-opening-party-7452838884201765809.html
LOCATION:Bredella Village Pratteln
GEO:47.523460;7.690103
URL:https://eventfrog.at/de/p/partys/electro/summer-opening-party-7452838884201765809.html
END:VEVENT
END:VCALENDAR