BEGIN:VCALENDAR
VERSION:2.0
PRODID:EVENTFROG//EVENT//ICAL
BEGIN:VEVENT
UID:20260424T072006Z-7452838432080968786@eventfrog.at
DTSTAMP:20260424T072006Z
DTSTART:20260429T170000Z
DTEND:20260429T200000Z
SUMMARY:she.walks.and.talks
DESCRIPTION:Was: she.walks.and.talks\nWann: 29. April 2026, 19:00 Uhr\nWo: Bürkliplatz, Zürich\nWie: girls walking and talking, good vibes, fun und schöne Gespräche ️\n\nhttps://eventfrog.at/en/p/politics-community/community/she-walks-and-talks-7452838432080968786.html
LOCATION:Schiffstation Bürkliplatz, Zürich
GEO:47.365662;8.540993
URL:https://eventfrog.at/en/p/politics-community/community/she-walks-and-talks-7452838432080968786.html
END:VEVENT
END:VCALENDAR