BEGIN:VCALENDAR
VERSION:2.0
PRODID:EVENTFROG//EVENT//ICAL
BEGIN:VEVENT
UID:20260424T090458Z-7452838057093391318@eventfrog.at
DTSTAMP:20260424T090458Z
DTSTART:20260510T100000Z
DTEND:20260510T150000Z
SUMMARY:Internationaler Museumstag
DESCRIPTION:Das open art museum bei freiem Eintritt entdecken.\n\nhttps://eventfrog.at/de/p/kunst-ausstellungen/internationaler-museumstag-7452838057093391318.html
LOCATION:open art museum
GEO:47.419628;9.367092
URL:https://eventfrog.at/de/p/kunst-ausstellungen/internationaler-museumstag-7452838057093391318.html
END:VEVENT
END:VCALENDAR