BEGIN:VCALENDAR
VERSION:2.0
PRODID:EVENTFROG//EVENT//ICAL
BEGIN:VEVENT
UID:20260424T072732Z-7452822911432319429@eventfrog.at
DTSTAMP:20260424T072732Z
DTSTART:20260501T100000Z
DTEND:20260501T143000Z
SUMMARY:1. Mai Feier
DESCRIPTION:Limmattaler 1. Maifeier 12 Uhr (Festwirtschaft, 14 Uhr (Rede) bis 16.30 Uhr\n\nhttps://eventfrog.at/de/p/volksfeste/sonstige-feste/1-mai-feier-7452822911432319429.html
LOCATION:Dietikon Kirchplatz
GEO:47.405078;8.403157
URL:https://eventfrog.at/de/p/volksfeste/sonstige-feste/1-mai-feier-7452822911432319429.html
END:VEVENT
END:VCALENDAR