BEGIN:VCALENDAR
VERSION:2.0
PRODID:EVENTFROG//EVENT//ICAL
BEGIN:VEVENT
UID:20260424T072716Z-7452821319551337458@eventfrog.at
DTSTAMP:20260424T072716Z
DTSTART:20260504T170000Z
DTEND:20260504T190000Z
SUMMARY:Life Drawing (Aktzeichnen) in Zürich, Kreiss 4
DESCRIPTION:Life drawing in Zürich without guidance\n\nhttps://eventfrog.at/en/p/art-exhibitions/other-art-events/life-drawing-aktzeichnen-in-zuerich-kreiss-4-7452821319551337458.html
LOCATION:Kurslokal
GEO:47.375703;8.524396
URL:https://eventfrog.at/en/p/art-exhibitions/other-art-events/life-drawing-aktzeichnen-in-zuerich-kreiss-4-7452821319551337458.html
END:VEVENT
END:VCALENDAR