BEGIN:VCALENDAR
VERSION:2.0
PRODID:EVENTFROG//EVENT//ICAL
BEGIN:VEVENT
UID:20260424T100022Z-7452798798382768653@eventfrog.at
DTSTAMP:20260424T100022Z
DTSTART:20270319T193000Z
DTEND:20270319T213000Z
SUMMARY:Schreiber vs. Schneider mit "Schatz!"
DESCRIPTION:Schreiber vs. Schneider kennen sich bestens aus auf dem weiten Feld der Liebe zwischen Minne und Minen und spüren das Absurde im Alltäglichen auf. Voller Selbstironie und Augenzwinkern.\n\nhttps://eventfrog.at/de/p/theater-buehne/lesung/schreiber-vs-schneider-mit-schatz-7452798798382768653.html
LOCATION:Alti Moschti
GEO:46.814744;7.513911
URL:https://eventfrog.at/de/p/theater-buehne/lesung/schreiber-vs-schneider-mit-schatz-7452798798382768653.html
END:VEVENT
END:VCALENDAR