BEGIN:VCALENDAR
VERSION:2.0
PRODID:EVENTFROG//EVENT//ICAL
BEGIN:VEVENT
UID:20260425T110259Z-7452798064685779067@eventfrog.at
DTSTAMP:20260425T110259Z
DTSTART:20260510T150000Z
DTEND:20260510T162000Z
SUMMARY:heimwē – Wie das Heimweh Eingang in die Barockmusik fand
DESCRIPTION:Das Ensemble Le Grand Trianon spielt in einem mitreissenden Programm zum Thema Heimweh barocke Schätze sowie eine Komposition von Andreas Gabriel für zwei Blockflöten, Barockcello, Laute und Cembalo.\n\nhttps://eventfrog.at/de/p/klassik-opern/klassik/heimw-wie-das-heimweh-eingang-in-die-barockmusik-fand-7452798064685779067.html
LOCATION:Gartensaal der Villa Boveri, Ländliweg 5, 5400 Baden, CH
GEO:47.470152;8.307994
URL:https://eventfrog.at/de/p/klassik-opern/klassik/heimw-wie-das-heimweh-eingang-in-die-barockmusik-fand-7452798064685779067.html
END:VEVENT
END:VCALENDAR