BEGIN:VCALENDAR
VERSION:2.0
PRODID:EVENTFROG//EVENT//ICAL
BEGIN:VEVENT
UID:20260424T063612Z-7452792110812548778@eventfrog.at
DTSTAMP:20260424T063612Z
DTSTART:20260424T170000Z
DTEND:20260424T190000Z
SUMMARY:Live-Krimi-Spaziergang im Rebstockpark:
DESCRIPTION:Live-Krimi-Spaziergang\n\nhttps://eventfrog.at/de/p/freizeit-ausfluege/ausflug/live-krimi-spaziergang-im-rebstockpark-7452792110812548778.html
LOCATION:FRANKFURTER WOHNZIMMERTHEATER
GEO:50.113572;8.632842
URL:https://eventfrog.at/de/p/freizeit-ausfluege/ausflug/live-krimi-spaziergang-im-rebstockpark-7452792110812548778.html
END:VEVENT
END:VCALENDAR