BEGIN:VCALENDAR
VERSION:2.0
PRODID:EVENTFROG//EVENT//ICAL
BEGIN:VEVENT
UID:20260425T184125Z-7452763379502961451@eventfrog.at
DTSTAMP:20260425T184125Z
DTSTART:20260426T090000Z
DTEND:20260426T140000Z
SUMMARY:Herscheider Flohmarkt
DESCRIPTION:Am 26. April findet wieder der beliebte Flohmarkt auf dem Herscheider Netto-Parkplatz statt.\n\nhttps://eventfrog.at/de/p/maerkte/flohmarkt/herscheider-flohmarkt-7452763379502961451.html
LOCATION:Netto Marken-Discount
GEO:51.176943;7.744220
URL:https://eventfrog.at/de/p/maerkte/flohmarkt/herscheider-flohmarkt-7452763379502961451.html
END:VEVENT
END:VCALENDAR