BEGIN:VCALENDAR
VERSION:2.0
PRODID:EVENTFROG//EVENT//ICAL
BEGIN:VEVENT
UID:20260424T121147Z-7452761658596822833@eventfrog.at
DTSTAMP:20260424T121147Z
DTSTART:20260701T170000Z
DTEND:20260701T183000Z
SUMMARY:Beckenbodenkurs online
DESCRIPTION:Der Online-Kurs auf Schweizerdeutsch stärkt den Beckenboden von Frauen jeden Alters flexibel und wirkungsvoll im Alltag.\n\nhttps://eventfrog.at/de/p/gesundheit-spiritualitaet/gesundheit-wohlbefinden/beckenbodenkurs-online-7452761658596822833.html
LOCATION:Via Zoom
URL:https://eventfrog.at/de/p/gesundheit-spiritualitaet/gesundheit-wohlbefinden/beckenbodenkurs-online-7452761658596822833.html
END:VEVENT
END:VCALENDAR