BEGIN:VCALENDAR
VERSION:2.0
PRODID:EVENTFROG//EVENT//ICAL
BEGIN:VEVENT
UID:20260424T072716Z-7452753778124529108@eventfrog.at
DTSTAMP:20260424T072716Z
DTSTART:20260522T190000Z
DTEND:20260522T203000Z
SUMMARY:WHO IS GINA  BS  LIVE
DESCRIPTION:Who is Gina? spielt RnB-Hits blues-rockig mit Annie Goodchild als Sängerin. Konzert um 21 Uhr, Eintritt ab CHF 15.\n\nhttps://eventfrog.at/de/p/konzerte/funk-soul/who-is-gina-bs-live-7452753778124529108.html
LOCATION:Schall und Rauch
GEO:47.559983;7.592350
URL:https://eventfrog.at/de/p/konzerte/funk-soul/who-is-gina-bs-live-7452753778124529108.html
END:VEVENT
END:VCALENDAR