BEGIN:VCALENDAR
VERSION:2.0
PRODID:EVENTFROG//EVENT//ICAL
BEGIN:VEVENT
UID:20260424T072543Z-7452736640831760477@eventfrog.at
DTSTAMP:20260424T072543Z
DTSTART:20260526T130000Z
DTEND:20260526T160000Z
SUMMARY:amm Café Med Basel
DESCRIPTION:Kostenlose medizinische Beratung ohne Voranmeldung, Ärzte und Fachpersonen bieten individuelle Entscheidungshilfe.\n\nhttps://eventfrog.at/de/p/gesundheit-spiritualitaet/gesundheit-wohlbefinden/amm-cafe-med-basel-7452736640831760477.html
LOCATION:Rest. Schnabel
GEO:47.556852;7.586777
URL:https://eventfrog.at/de/p/gesundheit-spiritualitaet/gesundheit-wohlbefinden/amm-cafe-med-basel-7452736640831760477.html
END:VEVENT
END:VCALENDAR