BEGIN:VCALENDAR
VERSION:2.0
PRODID:EVENTFROG//EVENT//ICAL
BEGIN:VEVENT
UID:20260424T105226Z-7452732981095996404@eventfrog.at
DTSTAMP:20260424T105226Z
DTSTART:20260508T120000Z
DTEND:20260510T100000Z
SUMMARY:Innere Ruhe & mentale Ausgeglichenheit - Frauenwochenende
DESCRIPTION:3 Tage Yoga und Meditation in Kleingruppe am Zürichsee schenken Frauen ganzheitliche Erholung, Ruhe und innere Kraft in der Natur.\n\nhttps://eventfrog.at/de/p/gesundheit-spiritualitaet/gesundheit-wohlbefinden/innere-ruhe-mentale-ausgeglichenheit-frauenwochenende-7452732981095996404.html
LOCATION:Rapperswil-Jona
GEO:47.220655;8.865922
URL:https://eventfrog.at/de/p/gesundheit-spiritualitaet/gesundheit-wohlbefinden/innere-ruhe-mentale-ausgeglichenheit-frauenwochenende-7452732981095996404.html
END:VEVENT
END:VCALENDAR