BEGIN:VCALENDAR
VERSION:2.0
PRODID:EVENTFROG//EVENT//ICAL
BEGIN:VEVENT
UID:20260426T014607Z-7452730534826869539@eventfrog.at
DTSTAMP:20260426T014607Z
DTSTART:20260508T210000Z
DTEND:20260509T030000Z
SUMMARY:PULSO LATINO
DESCRIPTION: PULSO – Dominican Edition \n\nKLK mi gente ️\n¿Tamo activo o qué? \n\nBereit für eine Nacht voller Energy, perreo & puro flow caribeño \n\nPULSO bringt als erstes Event die dominikanische Edi\n\nhttps://eventfrog.at/de/p/partys/latin-brasil/pulso-latino-7452730534826869539.html
LOCATION:Karma Club
GEO:46.949648;7.441158
URL:https://eventfrog.at/de/p/partys/latin-brasil/pulso-latino-7452730534826869539.html
END:VEVENT
END:VCALENDAR