BEGIN:VCALENDAR
VERSION:2.0
PRODID:EVENTFROG//EVENT//ICAL
BEGIN:VEVENT
UID:20260424T122254Z-7452728631908893957@eventfrog.at
DTSTAMP:20260424T122254Z
DTSTART:20261024T161100Z
DTEND:20261024T210000Z
SUMMARY:General Corps Appell
DESCRIPTION:Ehrengarde Düsseldorf e.V. ehrt Mitglieder; Auftritte von Heinz Hülshoff, Bonn, GKG Elf vom Dörp, Max Weyer. Anmeldung bis 30.9.2026.\n\nhttps://eventfrog.at/de/p/fasnacht-fasching-karneval/sonstige-veranstaltungen/general-corps-appell-7452728631908893957.html
LOCATION:Townhouse Düsseldorf
GEO:51.220630;6.773026
URL:https://eventfrog.at/de/p/fasnacht-fasching-karneval/sonstige-veranstaltungen/general-corps-appell-7452728631908893957.html
END:VEVENT
END:VCALENDAR