BEGIN:VCALENDAR
VERSION:2.0
PRODID:EVENTFROG//EVENT//ICAL
BEGIN:VEVENT
UID:20260425T151937Z-7452722233888241704@eventfrog.at
DTSTAMP:20260425T151937Z
DTSTART:20260502T190000Z
DTEND:20260503T010000Z
SUMMARY:Ändu and Friends AT Schlossbergbar
DESCRIPTION:Mani Ändu und Freunde spielen in der Schlossbergbar Thun einen Abend mit vielseitiger, leidenschaftlicher Live-Musik.\n\nhttps://eventfrog.at/de/p/konzerte/pop-rock/aendu-and-friends-at-schlossbergbar-7452722233888241704.html
LOCATION:Schlossbergbar
GEO:46.760000;7.628790
URL:https://eventfrog.at/de/p/konzerte/pop-rock/aendu-and-friends-at-schlossbergbar-7452722233888241704.html
END:VEVENT
END:VCALENDAR