BEGIN:VCALENDAR
VERSION:2.0
PRODID:EVENTFROG//EVENT//ICAL
BEGIN:VEVENT
UID:20260422T233426Z-7452721640033486640@eventfrog.at
DTSTAMP:20260422T233426Z
DTSTART:20260424T170000Z
SUMMARY:Music for 18 Musicians
DESCRIPTION:Konzert »Music for 18 Musicians« von Steve Reich. \n\nhttps://eventfrog.at/de/p/klassik-opern/klassik/music-for-18-musicians-7452721640033486640.html
LOCATION:Hochschule für Musik Freiburg
GEO:47.989066;7.872281
URL:https://eventfrog.at/de/p/klassik-opern/klassik/music-for-18-musicians-7452721640033486640.html
END:VEVENT
END:VCALENDAR