BEGIN:VCALENDAR
VERSION:2.0
PRODID:EVENTFROG//EVENT//ICAL
BEGIN:VEVENT
UID:20260424T072704Z-7452717813142185381@eventfrog.at
DTSTAMP:20260424T072704Z
DTSTART:20260621T120000Z
DTEND:20260621T150000Z
SUMMARY:Schauarchiv: Eintauchen in die Welt der Pressefotografie
DESCRIPTION:Das Schauarchiv lädt zum Stöbern im Ringier Bildarchiv mit tausenden Fotos, Negativen und Bildlegenden ein.\n\nhttps://eventfrog.at/de/p/kunst-ausstellungen/kultur/schauarchiv-eintauchen-in-die-welt-der-pressefotografie-7452717813142185381.html
LOCATION:Stadtmuseum Aarau
GEO:47.394343;8.045177
URL:https://eventfrog.at/de/p/kunst-ausstellungen/kultur/schauarchiv-eintauchen-in-die-welt-der-pressefotografie-7452717813142185381.html
END:VEVENT
END:VCALENDAR