BEGIN:VCALENDAR
VERSION:2.0
PRODID:EVENTFROG//EVENT//ICAL
BEGIN:VEVENT
UID:20260424T112539Z-7452713781933658049@eventfrog.at
DTSTAMP:20260424T112539Z
DTSTART:20261030T090000Z
DTEND:20261030T103000Z
SUMMARY:Babinski-, Babkin-, Plantar-Reflex - für Erdung & Stabilität
DESCRIPTION:Der Kurs integriert frühkindliche Reflexe, um Erdung, Körperwahrnehmung und Stabilität bei Erwachsenen zu fördern.\n\nhttps://eventfrog.at/de/p/kurse-seminare/sonstige-kurse-seminare/babinski-babkin-plantar-reflex-fuer-erdung-stabilitaet-7452713781933658049.html
LOCATION:Gsundheitspraxis Kriech
GEO:47.067071;7.343919
URL:https://eventfrog.at/de/p/kurse-seminare/sonstige-kurse-seminare/babinski-babkin-plantar-reflex-fuer-erdung-stabilitaet-7452713781933658049.html
END:VEVENT
END:VCALENDAR