BEGIN:VCALENDAR
VERSION:2.0
PRODID:EVENTFROG//EVENT//ICAL
BEGIN:VEVENT
UID:20260424T090458Z-7452712283942162486@eventfrog.at
DTSTAMP:20260424T090458Z
DTSTART:20261015T120000Z
DTEND:20261015T140000Z
SUMMARY:Lesegruppe "Alte Schriften"
DESCRIPTION:Gemeinsam in der Gruppe entziffern wir knifflige Stellen und helfen einander beim Erlernen der Kurrentschrift.\n\nhttps://eventfrog.at/de/p/kurse-seminare/kunst-kultur/lesegruppe-alte-schriften-7452712283942162486.html
LOCATION:Aargauer Kantonsbibliothek
GEO:47.389723;8.044993
URL:https://eventfrog.at/de/p/kurse-seminare/kunst-kultur/lesegruppe-alte-schriften-7452712283942162486.html
END:VEVENT
END:VCALENDAR