BEGIN:VCALENDAR
VERSION:2.0
PRODID:EVENTFROG//EVENT//ICAL
BEGIN:VEVENT
UID:20260424T080135Z-7452710766874989302@eventfrog.at
DTSTAMP:20260424T080135Z
DTSTART:20260507T170000Z
DTEND:20260507T181500Z
SUMMARY:Führung und Lesung
DESCRIPTION:Verena Keller liest bei der monatlichen Führung aus ihrem Roman «Idas Trauma und die Liebe zu Russland» über Trauma und Versöhnung.\n\nhttps://eventfrog.at/de/p/fuehrungen-vortraege/fuehrung/fuehrung-und-lesung-7452710766874989302.html
LOCATION:Kabinett für sentimentale Trivialliteratur Klosterplatz 7 4500 Solothurn
GEO:47.207642;7.539215
URL:https://eventfrog.at/de/p/fuehrungen-vortraege/fuehrung/fuehrung-und-lesung-7452710766874989302.html
END:VEVENT
END:VCALENDAR