BEGIN:VCALENDAR
VERSION:2.0
PRODID:EVENTFROG//EVENT//ICAL
BEGIN:VEVENT
UID:20260422T204739Z-7452707261372210769@eventfrog.at
DTSTAMP:20260422T204739Z
DTSTART:20261031T190000Z
DTEND:20261031T220000Z
SUMMARY:Mamma Mia (ABBA) Mitsing-Party – Hits, DJ & 70s-Feeling!
DESCRIPTION:Erlebe bei der Mamma Mia Mitsing-Party die größten ABBA-Hits mit Live-DJ und interaktiver Stimmung im 70er-Jahre-Style.\n\nhttps://eventfrog.at/de/p/partys/70-s/mamma-mia-abba-mitsing-party-hits-dj-70s-feeling-7452707261372210769.html
LOCATION:Live Music Hall
GEO:50.949050;6.910185
URL:https://eventfrog.at/de/p/partys/70-s/mamma-mia-abba-mitsing-party-hits-dj-70s-feeling-7452707261372210769.html
END:VEVENT
END:VCALENDAR