BEGIN:VCALENDAR
VERSION:2.0
PRODID:EVENTFROG//EVENT//ICAL
BEGIN:VEVENT
UID:20260422T204743Z-7452703487639441254@eventfrog.at
DTSTAMP:20260422T204743Z
DTSTART:20260912T180000Z
DTEND:20260912T210000Z
SUMMARY:Mamma Mia (ABBA) Mitsing-Party – Hits, DJ & 70s-Feeling!
DESCRIPTION:Erlebe bei der Mamma Mia Mitsing-Party die größten ABBA-Hits mit Live-DJ und interaktiver Stimmung im 70er-Jahre-Style.\n\nhttps://eventfrog.at/de/p/partys/70-s/mamma-mia-abba-mitsing-party-hits-dj-70s-feeling-7452703487639441254.html
LOCATION:Club Frau Berger
GEO:48.395148;9.982236
URL:https://eventfrog.at/de/p/partys/70-s/mamma-mia-abba-mitsing-party-hits-dj-70s-feeling-7452703487639441254.html
END:VEVENT
END:VCALENDAR