BEGIN:VCALENDAR
VERSION:2.0
PRODID:EVENTFROG//EVENT//ICAL
BEGIN:VEVENT
UID:20260425T203858Z-7452699311454860846@eventfrog.at
DTSTAMP:20260425T203858Z
DTSTART:20260715T130000Z
DTEND:20260715T180000Z
SUMMARY:HOUSE OF MAGIC
DESCRIPTION:Über 110 Exponate laden in 19 Räumen ein, Magie und Wissenschaft zu entdecken und Illusionen mit viel Action zu erleben.\n\nhttps://eventfrog.at/de/p/freizeit-ausfluege/sonstige-veranstaltungen/house-of-magic-7452699311454860846.html
LOCATION:HOUSE OF MAGIC
GEO:51.491291;6.877462
URL:https://eventfrog.at/de/p/freizeit-ausfluege/sonstige-veranstaltungen/house-of-magic-7452699311454860846.html
END:VEVENT
END:VCALENDAR