BEGIN:VCALENDAR
VERSION:2.0
PRODID:EVENTFROG//EVENT//ICAL
BEGIN:VEVENT
UID:20260422T204803Z-7452698857241069415@eventfrog.at
DTSTAMP:20260422T204803Z
DTSTART:20260711T170000Z
DTEND:20260711T200000Z
SUMMARY:Mamma Mia (ABBA) Mitsing-Party – Hits, DJ & 70s-Feeling!
DESCRIPTION:Erlebe bei der Mamma Mia Mitsing-Party die größten ABBA-Hits mit Live-DJ und interaktiver Stimmung im 70er-Jahre-Style.\n\nhttps://eventfrog.at/de/p/partys/70-s/mamma-mia-abba-mitsing-party-hits-dj-70s-feeling-7452698857241069415.html
LOCATION:Musikpark Ludwigshafen
GEO:49.479610;8.451644
URL:https://eventfrog.at/de/p/partys/70-s/mamma-mia-abba-mitsing-party-hits-dj-70s-feeling-7452698857241069415.html
END:VEVENT
END:VCALENDAR