BEGIN:VCALENDAR
VERSION:2.0
PRODID:EVENTFROG//EVENT//ICAL
BEGIN:VEVENT
UID:20260423T051256Z-7452698677317995496@eventfrog.at
DTSTAMP:20260423T051256Z
DTSTART:20260426T163000Z
DTEND:20260426T180000Z
SUMMARY:Lifts & Aerials mit Markus - ein Kurs der Crazy Shakers
DESCRIPTION:Zweitägiger Kurs mit Markus Berghahn zu Lifts und Aerials von einfach bis anspruchsvoll, 26.4. & 3.5., Zürich, Anmeldung nötig.\n\nhttps://eventfrog.at/de/p/kurse-seminare/musik-tanz/lifts-aerials-mit-markus-ein-kurs-der-crazy-shakers-7452698677317995496.html
LOCATION:Club Silbando
GEO:47.392000;8.514990
URL:https://eventfrog.at/de/p/kurse-seminare/musik-tanz/lifts-aerials-mit-markus-ein-kurs-der-crazy-shakers-7452698677317995496.html
END:VEVENT
END:VCALENDAR