BEGIN:VCALENDAR
VERSION:2.0
PRODID:EVENTFROG//EVENT//ICAL
BEGIN:VEVENT
UID:20260425T181320Z-7452696496468677630@eventfrog.at
DTSTAMP:20260425T181320Z
DTSTART:20260502T143000Z
SUMMARY:ELBTONAL PERCUSSIONS Eröffnungskonzert Klangfest 2026
DESCRIPTION:Vier Schlagzeuger bringen mit Küchenutensilien und Alltagssachen Rhythmen aus aller Welt mit viel Humor auf die Bühne.\n\nhttps://eventfrog.at/de/p/konzerte/weitere-musikrichtungen/elbtonal-percussions-eroeffnungskonzert-klangfest-2026-7452696496468677630.html
LOCATION:Kampnagel, Internationale Kulturfabrik
GEO:53.583863;10.020338
URL:https://eventfrog.at/de/p/konzerte/weitere-musikrichtungen/elbtonal-percussions-eroeffnungskonzert-klangfest-2026-7452696496468677630.html
END:VEVENT
END:VCALENDAR