BEGIN:VCALENDAR
VERSION:2.0
PRODID:EVENTFROG//EVENT//ICAL
BEGIN:VEVENT
UID:20260423T003053Z-7452696267107336490@eventfrog.at
DTSTAMP:20260423T003053Z
DTSTART:20260430T100000Z
DTEND:20260430T120000Z
SUMMARY:Aktionstag Tag der Demokratie im Sprachenzentrum Gallus
DESCRIPTION:Am 30. April bringt das Sprachenzentrum Gallus mit Musik, Kunst und Spielen Kindern und Familien Demokratie und Vielfalt näher.\n\nhttps://eventfrog.at/de/p/kinderveranstaltungen/familienveranstaltungen/aktionstag-tag-der-demokratie-im-sprachenzentrum-gallus-7452696267107336490.html
LOCATION:Sprachenzentrum Gallus der ASB Bildung gGmbH
GEO:50.107601;8.647999
URL:https://eventfrog.at/de/p/kinderveranstaltungen/familienveranstaltungen/aktionstag-tag-der-demokratie-im-sprachenzentrum-gallus-7452696267107336490.html
END:VEVENT
END:VCALENDAR