BEGIN:VCALENDAR
VERSION:2.0
PRODID:EVENTFROG//EVENT//ICAL
BEGIN:VEVENT
UID:20260424T054633Z-7452694778456632373@eventfrog.at
DTSTAMP:20260424T054633Z
DTSTART:20260507T180000Z
DTEND:20260508T000000Z
SUMMARY:Mittekill & Pastor Leumund
DESCRIPTION:Mittekill verbindet Elektro-Punk und poetische Texte zu einem intensiven Konzert, das unter die Haut geht und zum Nachdenken lädt.\n\nhttps://eventfrog.at/de/p/konzerte/electro/mittekill-pastor-leumund-7452694778456632373.html
LOCATION:Esslinger Str. 2
GEO:48.773667;9.181330
URL:https://eventfrog.at/de/p/konzerte/electro/mittekill-pastor-leumund-7452694778456632373.html
END:VEVENT
END:VCALENDAR