BEGIN:VCALENDAR
VERSION:2.0
PRODID:EVENTFROG//EVENT//ICAL
BEGIN:VEVENT
UID:20260424T072706Z-7452691496300459340@eventfrog.at
DTSTAMP:20260424T072706Z
DTSTART:20260428T160000Z
DTEND:20260428T190000Z
SUMMARY:Everybody Networks Here Basel: Grow & Connect #1
DESCRIPTION:Connecting People, Creating Opportunities  Everybody Networks Here creates international, high-impact, low-pressure networking events & workshops that make it easy for professionals to connect.\n\nhttps://eventfrog.at/en/p/politics-community/community/everybody-networks-here-basel-grow-connect-1-7452691496300459340.html
LOCATION:Startup Academy
GEO:47.553359;7.595418
URL:https://eventfrog.at/en/p/politics-community/community/everybody-networks-here-basel-grow-connect-1-7452691496300459340.html
END:VEVENT
END:VCALENDAR