BEGIN:VCALENDAR
VERSION:2.0
PRODID:EVENTFROG//EVENT//ICAL
BEGIN:VEVENT
UID:20260422T192629Z-7452687268718852253@eventfrog.at
DTSTAMP:20260422T192629Z
DTSTART:20260430T150000Z
DTEND:20260430T180000Z
SUMMARY:Diskussion “Ohne Bildungsträger - keine Demokratiebildung
DESCRIPTION:Ab 17 Uhr diskutieren Fachleute aus Bildung und Politik in der Orangerie die zentrale Rolle von Bildungsträgern für Demokratiebildung.\n\nhttps://eventfrog.at/de/p/fuehrungen-vortraege/podium/diskussion-ohne-bildungstraeger-keine-demokratiebildung-7452687268718852253.html
LOCATION:Orangerie im Günthersburpark
GEO:50.128897;8.700394
URL:https://eventfrog.at/de/p/fuehrungen-vortraege/podium/diskussion-ohne-bildungstraeger-keine-demokratiebildung-7452687268718852253.html
END:VEVENT
END:VCALENDAR