BEGIN:VCALENDAR
VERSION:2.0
PRODID:EVENTFROG//EVENT//ICAL
BEGIN:VEVENT
UID:20260424T032702Z-7452682943770717733@eventfrog.at
DTSTAMP:20260424T032702Z
DTSTART:20260510T154500Z
DTEND:20260510T174500Z
SUMMARY:Muttertag-Yin-Yoga mit Klangbad
DESCRIPTION:Erlebe ein sanftes Yin Yoga und ein Klangbad mit Kristallschalen für tiefe Entspannung und innere Balance.\n\nhttps://eventfrog.at/de/p/gesundheit-spiritualitaet/wellness/muttertag-yin-yoga-mit-klangbad-7452682943770717733.html
LOCATION:Yoga Academy Winterthur
GEO:47.496129;8.715422
URL:https://eventfrog.at/de/p/gesundheit-spiritualitaet/wellness/muttertag-yin-yoga-mit-klangbad-7452682943770717733.html
END:VEVENT
END:VCALENDAR