BEGIN:VCALENDAR
VERSION:2.0
PRODID:EVENTFROG//EVENT//ICAL
BEGIN:VEVENT
UID:20260423T051835Z-7452679826601703562@eventfrog.at
DTSTAMP:20260423T051835Z
DTSTART:20260512T084500Z
DTEND:20260512T094500Z
SUMMARY:Babyzeichen-Spielgruppe
DESCRIPTION:Babys ab 6 Monaten lernen in einer Spielgruppe Babyzeichen spielerisch durch Lieder, Spiele und altersgerechte Instrumente.\n\nhttps://eventfrog.at/de/p/kurse-seminare/familienweiterbildung/babyzeichen-spielgruppe-7452679826601703562.html
LOCATION:Kids&co Familienzentrum Maria Enzersdorf
GEO:48.100805;16.280810
URL:https://eventfrog.at/de/p/kurse-seminare/familienweiterbildung/babyzeichen-spielgruppe-7452679826601703562.html
END:VEVENT
END:VCALENDAR