BEGIN:VCALENDAR
VERSION:2.0
PRODID:EVENTFROG//EVENT//ICAL
BEGIN:VEVENT
UID:20260423T034455Z-7452674771999793997@eventfrog.at
DTSTAMP:20260423T034455Z
DTSTART:20260505T170000Z
DTEND:20260505T183000Z
SUMMARY:Inspiration für einen weniger stressigen Alltag
DESCRIPTION:1000 km oder 280 km Wanderung sind aktuell nicht drinnen bei dem vollen Alltag. Doch ein bisschen Veränderung wäre schon fein. Und die kommt auf dem Camino 2 Go daher. Ein Abend voller Camino-Energie.\n\nhttps://eventfrog.at/de/p/kurse-seminare/coaching/inspiration-fuer-einen-weniger-stressigen-alltag-7452674771999793997.html
LOCATION:Online event
URL:https://eventfrog.at/de/p/kurse-seminare/coaching/inspiration-fuer-einen-weniger-stressigen-alltag-7452674771999793997.html
END:VEVENT
END:VCALENDAR