BEGIN:VCALENDAR
VERSION:2.0
PRODID:EVENTFROG//EVENT//ICAL
BEGIN:VEVENT
UID:20260424T035826Z-7452671090629811609@eventfrog.at
DTSTAMP:20260424T035826Z
DTSTART:20260425T160000Z
DTEND:20260425T190000Z
SUMMARY:Street Art meets Electronic Beats
DESCRIPTION:Am 25.04.2026 ab 18 Uhr legt DJ Tamer im Kunstverein Linz am Rhein zur Ausstellung «Crazy World» von Jörg Wagner auf.\n\nhttps://eventfrog.at/de/p/partys/electro/street-art-meets-electronic-beats-7452671090629811609.html
LOCATION:Markt9
GEO:50.565796;7.281442
URL:https://eventfrog.at/de/p/partys/electro/street-art-meets-electronic-beats-7452671090629811609.html
END:VEVENT
END:VCALENDAR