BEGIN:VCALENDAR
VERSION:2.0
PRODID:EVENTFROG//EVENT//ICAL
BEGIN:VEVENT
UID:20260424T072803Z-7452661411430325490@eventfrog.at
DTSTAMP:20260424T072803Z
DTSTART:20260508T160000Z
SUMMARY:A Place to Be, Together
DESCRIPTION:An Evening with Board Games. In engl. Sprache. Eintritt frei, mit Anmeldung.\n\n\nhttps://eventfrog.at/de/p/diverses/a-place-to-be-together-7452661411430325490.html
LOCATION:Karl der Grosse - Grüne Stube
GEO:47.370552;8.545169
URL:https://eventfrog.at/de/p/diverses/a-place-to-be-together-7452661411430325490.html
END:VEVENT
END:VCALENDAR