BEGIN:VCALENDAR
VERSION:2.0
PRODID:EVENTFROG//EVENT//ICAL
BEGIN:VEVENT
UID:20260424T072729Z-7452660507939490149@eventfrog.at
DTSTAMP:20260424T072729Z
DTSTART:20260530T090000Z
DTEND:20260530T150000Z
SUMMARY:Spielen im Salz – Familientag bei den Schweizer Salinen
DESCRIPTION:Die Tore öffnen sich für ein unvergessliches Erlebnis für Gross und Klein.\n\nhttps://eventfrog.at/de/p/kinderveranstaltungen/kinderfest/spielen-im-salz-familientag-bei-den-schweizer-salinen-7452660507939490149.html
LOCATION:Schweizer Salinen AG
GEO:47.531242;7.676072
URL:https://eventfrog.at/de/p/kinderveranstaltungen/kinderfest/spielen-im-salz-familientag-bei-den-schweizer-salinen-7452660507939490149.html
END:VEVENT
END:VCALENDAR