BEGIN:VCALENDAR
VERSION:2.0
PRODID:EVENTFROG//EVENT//ICAL
BEGIN:VEVENT
UID:20260424T054627Z-7452660430919481449@eventfrog.at
DTSTAMP:20260424T054627Z
DTSTART:20260514T100000Z
DTEND:20260514T210000Z
SUMMARY:Vatertag in der Bowling & Billard Lounge
DESCRIPTION:Am Vatertag für alle Väter: Gratis Leihschuhe & Zweifalter 1521 0,5 l nur 4,- \n\nhttps://eventfrog.at/de/p/freizeit-ausfluege/ausflug/vatertag-in-der-bowling-billard-lounge-7452660430919481449.html
LOCATION:Bowling & Billard Lounge Stuttgart-Möhringen
GEO:48.726937;9.134253
URL:https://eventfrog.at/de/p/freizeit-ausfluege/ausflug/vatertag-in-der-bowling-billard-lounge-7452660430919481449.html
END:VEVENT
END:VCALENDAR