BEGIN:VCALENDAR
VERSION:2.0
PRODID:EVENTFROG//EVENT//ICAL
BEGIN:VEVENT
UID:20260424T105313Z-7452651366877548696@eventfrog.at
DTSTAMP:20260424T105313Z
DTSTART:20260626T163000Z
DTEND:20260626T193000Z
SUMMARY:«Wagner geht Baden» Repertoire Orchestra
DESCRIPTION:Das Repertoire Orchestra bietet eine sinfonische Jamsession mit Werkstattkonzert für Musikbegeisterte jeglichen Alters und Niveaus.\n\nhttps://eventfrog.at/de/p/klassik-opern/klassik/wagner-geht-baden-repertoire-orchestra-7452651366877548696.html
LOCATION:Richard Wagner Museum
GEO:47.042406;8.329091
URL:https://eventfrog.at/de/p/klassik-opern/klassik/wagner-geht-baden-repertoire-orchestra-7452651366877548696.html
END:VEVENT
END:VCALENDAR