BEGIN:VCALENDAR
VERSION:2.0
PRODID:EVENTFROG//EVENT//ICAL
BEGIN:VEVENT
UID:20260424T214358Z-7452648200102531941@eventfrog.at
DTSTAMP:20260424T214358Z
DTSTART:20260528T183000Z
DTEND:20260528T200000Z
SUMMARY:My Comedy Hall
DESCRIPTION:stand-up, humour, comedy club, spectacle, rire, soirée, Genève, Lausanne, humoristes, nouveaux talents, Jamel Comedy Club, divertissement\n\nhttps://eventfrog.at/fr/p/comedies-musicales-spectacles/spectacle/my-comedy-hall-7452648200102531941.html
LOCATION:Uptown Geneva
GEO:46.209307;6.139701
URL:https://eventfrog.at/fr/p/comedies-musicales-spectacles/spectacle/my-comedy-hall-7452648200102531941.html
END:VEVENT
END:VCALENDAR