BEGIN:VCALENDAR
VERSION:2.0
PRODID:EVENTFROG//EVENT//ICAL
BEGIN:VEVENT
UID:20260424T050956Z-7452636626021312936@eventfrog.at
DTSTAMP:20260424T050956Z
DTSTART:20260721T170000Z
SUMMARY:Workshop: Häkeln mit Studio Sarubi
DESCRIPTION:Infos Folgen\n\nhttps://eventfrog.at/de/p/kurse-seminare/kunst-kultur/workshop-haekeln-mit-studio-sarubi-7452636626021312936.html
LOCATION:Turm Areal Pop Up
GEO:47.503657;8.727582
URL:https://eventfrog.at/de/p/kurse-seminare/kunst-kultur/workshop-haekeln-mit-studio-sarubi-7452636626021312936.html
END:VEVENT
END:VCALENDAR