BEGIN:VCALENDAR
VERSION:2.0
PRODID:EVENTFROG//EVENT//ICAL
BEGIN:VEVENT
UID:20260424T105257Z-7452633160918003565@eventfrog.at
DTSTAMP:20260424T105257Z
DTSTART:20260506T180000Z
DTEND:20260506T190000Z
SUMMARY:Klangbad - Entspannung für Körper und Seele
DESCRIPTION:Eine Stunde heilsame Klänge beruhigt das Nervensystem und aktiviert die Selbstheilungskräfte\n\nhttps://eventfrog.at/de/p/gesundheit-spiritualitaet/gesundheit-wohlbefinden/klangbad-entspannung-fuer-koerper-und-seele-7452633160918003565.html
LOCATION:Maerbena
GEO:47.493599;7.997535
URL:https://eventfrog.at/de/p/gesundheit-spiritualitaet/gesundheit-wohlbefinden/klangbad-entspannung-fuer-koerper-und-seele-7452633160918003565.html
END:VEVENT
END:VCALENDAR