BEGIN:VCALENDAR
VERSION:2.0
PRODID:EVENTFROG//EVENT//ICAL
BEGIN:VEVENT
UID:20260424T072723Z-7452622239525043616@eventfrog.at
DTSTAMP:20260424T072723Z
DTSTART:20260516T200000Z
SUMMARY:2000er plus Party
DESCRIPTION:Hits von 2000 bis Heute mit DJ Laslow im Club.\n\nhttps://eventfrog.at/de/p/partys/charts-open-format/2000er-plus-party-7452622239525043616.html
LOCATION:Bar59
GEO:47.041981;8.311045
URL:https://eventfrog.at/de/p/partys/charts-open-format/2000er-plus-party-7452622239525043616.html
END:VEVENT
END:VCALENDAR