BEGIN:VCALENDAR
VERSION:2.0
PRODID:EVENTFROG//EVENT//ICAL
BEGIN:VEVENT
UID:20260424T072546Z-7452619694870126491@eventfrog.at
DTSTAMP:20260424T072546Z
DTSTART:20260515T190000Z
SUMMARY:B59 Rollschuhdisco w/ Ferdi Fis
DESCRIPTION:Disco Dance Fever Hits mit DJ Ferdi Fis im Club.\n\nhttps://eventfrog.at/de/p/partys/disco/b59-rollschuhdisco-w-ferdi-fis-7452619694870126491.html
LOCATION:Bar59
GEO:47.041981;8.311045
URL:https://eventfrog.at/de/p/partys/disco/b59-rollschuhdisco-w-ferdi-fis-7452619694870126491.html
END:VEVENT
END:VCALENDAR